BEGIN:VCALENDAR
VERSION:2.0
PRODID:-//Library Market//iCal Export//EN
BEGIN:VEVENT
SUMMARY:Fun with Fido Series
UID:12501
DTSTAMP:20260425T033600Z
DTSTART:20260616T150000Z
DTEND:20260616T160000Z
LOCATION:1177 N. Main St, Crete, IL 60417, United States
ROOM: Heideman Pavilion
DESCRIPTION:Join us for a four week series of classes with fun activities 
 for dogs and their owners. This loosely structured class is designed to in
 troduce you to dog sports, such as obedience, agility, and rally, as well 
 as provide socialization for dogs. Participants will learn some basic obed
 ience and tricks and will navigate some simple obstacles. All dogs must b
 e at least 12 weeks old and should be comfortable on a leash. Dogs will re
 main on leash at all times. Families are welcome, as long as children unde
 r 16 are accompanied by an adult. MUST have proof of rabies vaccination. 
 Owners assume the risk of exposing their dog to other dogs. Any uncontroll
 able or aggressive dogs will be asked to leave. Bring plenty of high valu
 e treats (and don&#039;t overfeed your dog before you come!).
URL:https://crete.librarycalendar.com/event/fun-fido-12501
END:VEVENT
END:VCALENDAR
