BEGIN:VCALENDAR
VERSION:2.0
PRODID:-//Library Market//iCal Export//EN
BEGIN:VEVENT
SUMMARY:DIY Bird Feeder
UID:12548
DTSTAMP:20260420T233500Z
DTSTART:20260812T233000Z
DTEND:20260813T004500Z
LOCATION:1177 N. Main St, Crete, IL 60417, United States
ROOM: Heideman Pavilion
DESCRIPTION:Join us to make a homemade bird feeder for your yard. You can 
 feed your feathered friends with some supplies from around the house or ya
 rd. Participants will leave with their own bird feeder.Participants are re
 sponsible for knowing their own allergies as we may be using supplies or i
 ngredients that include known allergens, such as peanut butter or branches
  from trees.Registration required.
URL:https://crete.librarycalendar.com/event/diy-bird-feeder-12548
END:VEVENT
END:VCALENDAR
